Workbook
Name \0: #REF!
Name \a: #REF!
Name \b: #REF!
Name \c: #REF!
Name \d: #REF!
Name \p: #REF!
Name \r: #REF!
Name _____bal0296: [1]Plan1!$A$1:$F$238
Name _____Bal0497: [1]Plan1!$A$1:$F$517
Name _____bal1196: [1]Plan1!$A$1:$F$596
Name _____bdg2000: [1]Plan1!$A$1:$AH$101
Name _4655a: #REF!
Name _ari2: [2]!_ari2
Name _ari3: [2]!_ari3
Name _ari4: [2]!_ari4
Name _ari5: [2]!_ari5
Name _ari6: [2]!_ari6
Name _ari7: [2]!_ari7
Name _ari8: [2]!_ari8
Name _m10: [2]!_m10
Name _m11: [2]!_m11
Name _m2: [2]!_m2
Name _m3: [2]!_m3
Name _m4: [2]!_m4
Name _m5: [2]!_m5
Name _m6: [2]!_m6
Name _m7: [2]!_m7
Name _m8: [2]!_m8
Name _m9: [2]!_m9
Name _R: #REF!
Name A: #REF!
Name ab: #REF!
Name Accounts_receivable_discounted: '[3]Projection BR GAAP R$'!#REF!
Name Accumulated_Amortizat: [4]PROJECTION!#REF!
Name Adm: #REF!
Name ADM___OTHER_EXPENSES: '[3]Projection BR GAAP R$'!#REF!
Name ADM___OTHER_EXPENSES____of_Rev: '[3]Projection BR GAAP R$'!#REF!
Name Advance_in_Foreign_Bills: '[3]Projection BR GAAP R$'!#REF!
Name ADVANCE_IN_FOREIGN_BILLS____Receiv: '[3]Projection BR GAAP R$'!#REF!
Name agostoo: #REF!
Name AGUA: #REF!
Name Allowances_for_Dob_Acc: [4]PROJECTION!#REF!
Name ANALYST: #REF!
Name ANTERIOR: #REF!
Name ap: [5]GAN!#REF!
Name apr: [5]GPJ!#REF!
Name ari: [2]!ari
Name ARRUDA: #REF!
Name ATIVO3: #REF!
Name ATIVOS_OPERACIONAIS_BASE: #REF!
Name ATUARIAL: #REF!
Name B: #REF!
Name Base: #REF!
Name BETA: '[3]Projection BR GAAP R$'!#REF!
Name Canto_Inferior_Direito: '[6]Receita Operacional Bruta'!$W$68
Name Canto_Superior_Esquerdo: '[6]Receita Operacional Bruta'!$B$5
Name CAPEX_MONEY: '[3]Projection BR GAAP R$'!#REF!
Name CAPEX_RESPOSTA: '[3]Projection BR GAAP R$'!#REF!
Name CAPITAL_BASE: #REF!
Name CARLOS_GOMES: #REF!

Sheet Balanço Patrimonial
B2: BALANÇO PATRIMONIAL | C2: 1T16 | D2: 2T16 | E2: 3T16 | F2: 4T16 | G2: 1T17 | H2: 2T17 | I2: 3T17 | J2: 4T17 | K2: 1T18 | L2: 2T18 | M2: 3T18 | N2: 4T18 | O2: 1T19 | P2: 2T19 | Q2: 3T19 | R2: 4T19 | S2: 1T20 | T2: 2T20 | U2: 3T20 | V2: 4T20 | W2: 1T21 | X2: 2T21 | Y2: 3T21 | Z2: 4T21 | AA2: 1T22 | AB2: 2T22 | AC2: 3T22 | AD2: 4T22 | AE2: 1T23 | AF2: 2T23 | AG2: 3T23 | AH2: 4T23 | AI2: 1T24 | AJ2: 2T24 | AK2: 3T24 | AL2: 4T24 | AM2: 1T25 | AN2: 2T25 | AO2: 3T25 | AP2: 4T25 | AQ2: 1T26 | AR2: 2T26 | AS2: 3T26 | AT2: 4T26 | AV2: 2014 | AW2: 2015 | AX2: 2016 | AY2: 2017 | AZ2: 2018 | BA2: 2019 | BB2: 2020 | BC2: 2021 | BD2: 2022 | BE2: 2023 | BF2: 2024 | BG2: 2025 | BH2: 2026
B4: ATIVO TOTAL | C4: 1329592 | D4: 1356772 | E4: 1332718 | F4: 1237360 | G4: 1249505 | H4: 1253835 | I4: 1265778 | J4: 1252008 | K4: 1257954 | L4: 1685217 | M4: 1604126 | N4: 1622155 | O4: 1750625 | P4: 1753028 | Q4: 1822286 | R4: 1836292 | S4: =S5+S12 -> 2039745 | T4: =T5+T12 -> 1966315 | U4: =U5+U12 -> 2023353 | V4: =V5+V12 -> 2034288 | W4: =W5+W12 -> 1996073 | X4: =X5+X12 -> 1975018 | Y4: =Y5+Y12 -> 2223585 | Z4: =Z5+Z12 -> 2157347 | ... AT4: =AT5+AT12 -> 0 | AV4: 1132348 | AW4: 1351893 | AX4: 1237360 | AY4: 1252008 | AZ4: 1622155 | BA4: 1836292 | BB4: 2034288 | BC4: 2157347 | BD4: 2479770 | BE4: 3296008 | BF4: 3346770 | BG4: =AP4 -> 3483526 | BH4: =AR4 -> 3496690
B5: Ativo Circulante | C5: 623905 | D5: 643116 | E5: 637462 | F5: 544655 | G5: 562874 | H5: 562209 | I5: 562447 | J5: 537210 | K5: 531647 | L5: 728200 | M5: 623427 | N5: 563867 | O5: =SUM(O6:O11) -> 656778 | P5: =SUM(P6:P11) -> 612907 | Q5: =SUM(Q6:Q11) -> 872190 | R5: =SUM(R6:R11) -> 854556 | S5: =SUM(S6:S11) -> 956947 | T5: =SUM(T6:T11) -> 847857 | U5: =SUM(U6:U11) -> 887703 | V5: =SUM(V6:V11) -> 916703 | ... AT5: =SUM(AT6:AT11) -> 0 | AV5: 497839 | AW5: 639604 | AX5: 535369 | AY5: 522623 | AZ5: 563867 | BA5: 854556 | BB5: 916703 | BC5: 906131 | BD5: 1103098 | BE5: 1331755 | BF5: 1016380 | BG5: =AP5 -> 1122340 | BH5: =AR5 -> 1209958
B6: Caixa e Equivalentes de Caixa | C6: 89493 | D6: 91116 | E6: 159123 | F6: 105745 | G6: 118662 | H6: 98389 | I6: 87230 | J6: 94379 | K6: 65099 | L6: 234307 | M6: 132199 | N6: 82624 | O6: 151166 | P6: 54221 | Q6: 329372 | R6: 275378 | S6: 324782 | T6: 282076 | U6: 289229 | V6: 326325 | W6: 242893 | X6: 174192 | Y6: 332911 | Z6: 189718 | AA6: 224219 | AB6: 190606 | AC6: 134185 | AD6: 256088 | AE6: 389746 | AF6: 409032 | AG6: 325731 | AH6: 486472 | AI6: 324996 | AJ6: 233549 | AK6: 180983 | AL6: 79440 | AM6: 412042 | AN6: 286666 | AO6: 247131 | AP6: 171306 | AQ6: 185242 | AR6: 134487 | AV6: 92383 | AW6: 87664 | AX6: 105745 | AY6: 94379 | AZ6: 82624 | BA6: 275378 | BB6: 326325 | BC6: 189718 | BD6: 256088 | BE6: 486472 | BF6: 79440 | BG6: =AP6 -> 171306 | BH6: =AR6 -> 134487
B7: Contas a Receber | C7: 198947 | D7: 217557 | E7: 229488 | F7: 215379 | G7: 205252 | H7: 227126 | I7: 232120 | J7: 218412 | K7: 225585 | L7: 246649 | M7: 257615 | N7: 239463 | O7: 229761 | P7: 251324 | Q7: 249823 | R7: 251773 | S7: 243240 | T7: 219941 | U7: 307655 | V7: 289090 | W7: 320140 | X7: 343392 | Y7: 379410 | Z7: 375624 | AA7: 358149 | AB7: 412889 | AC7: 426652 | AD7: 314507 | AE7: 315599 | AF7: 314648 | AG7: 312785 | AH7: 269041 | AI7: 282503 | AJ7: 287334 | AK7: 287709 | AL7: 282050 | AM7: 262853 | AN7: 278692 | AO7: 296347 | AP7: 238412 | AQ7: 291302 | AR7: 322438 | AV7: 187918 | AW7: 208367 | AX7: 215379 | AY7: 218412 | AZ7: 239463 | BA7: 251773 | BB7: 289090 | BC7: 375624 | BD7: 314507 | BE7: 269041 | BF7: 282050 | BG7: =AP7 -> 238412 | BH7: =AR7 -> 322438
B8: Estoques | C8: 202728 | D8: 207665 | E8: 199520 | F8: 185880 | G8: 186649 | H8: 181939 | I8: 175919 | J8: 179323 | K8: 189706 | L8: 200419 | M8: 206212 | N8: 213791 | O8: 237238 | P8: 248777 | Q8: 236266 | R8: 243413 | S8: 285884 | T8: 254744 | U8: 217040 | V8: 204562 | W8: 218327 | X8: 224946 | Y8: 250965 | Z8: 285364 | AA8: 325813 | AB8: 370076 | AC8: 418664 | AD8: 455038 | AE8: 469243 | AF8: 474983 | AG8: 467928 | AH8: 489041 | AI8: 525865 | AJ8: 544818 | AK8: 536114 | AL8: 559645 | AM8: 570601 | AN8: 584527 | AO8: 608751 | AP8: 597210 | AQ8: 584183 | AR8: 606617 | AV8: 192292 | AW8: 205291 | AX8: 185880 | AY8: 179323 | AZ8: 213791 | BA8: 243413 | BB8: 204562 | BC8: 285364 | BD8: 455038 | BE8: 489041 | BF8: 553895 | BG8: =AP8 -> 597210 | BH8: =AR8 -> 606617
B9: Tributos a Recuperar | C9: 19237 | D9: 15606 | E9: 24549 | F9: 19079 | G9: 13015 | H9: 24379 | I9: 20112 | J9: 15922 | K9: 10371 | L9: 10559 | M9: 9833 | N9: 10201 | O9: 10337 | P9: 30069 | Q9: 29752 | R9: 52172 | S9: 50513 | T9: 55531 | U9: 42836 | V9: 77822 | W9: 72162 | X9: 80137 | Y9: 52947 | Z9: 27454 | AA9: 10945 | AB9: 11418 | AC9: 20180 | AD9: 37533 | AE9: 32315 | AF9: 42156 | AG9: 39539 | AH9: 31798 | AI9: 34568 | AJ9: 41980 | AK9: 46525 | AL9: 35674 | AM9: 41426 | AN9: 48571 | AO9: 55264 | AP9: 55621 | AQ9: 68046 | AR9: 66599 | AV9: 15648 | AW9: 22775 | AX9: 19079 | AY9: 15922 | AZ9: 10201 | BA9: 52172 | BB9: 77822 | BC9: 27454 | BD9: 37533 | BE9: 31798 | BF9: 35674 | BG9: =AP9 -> 55621 | BH9: =AR9 -> 66599
B10: Despesas Antecipadas | C10: 0 | D10: 0 | E10: 0 | F10: 0 | G10: 0 | H10: 0 | I10: 0 | J10: 0 | K10: 0 | L10: 0 | M10: 4170 | N10: 1598 | O10: 6983 | P10: 6405 | Q10: 4821 | R10: 3487 | S10: 12664 | T10: 10199 | U10: 6869 | V10: 4164 | W10: 3058 | X10: 3911 | Y10: 5058 | Z10: 5447 | AA10: 4988 | AB10: 5659 | AC10: 8232 | AD10: 13811 | AE10: 28298 | AF10: 16643 | AG10: 16252 | AH10: 17488 | AI10: 31934 | AJ10: 36946 | AK10: 34571 | AL10: 39011 | AM10: 39018 | AN10: 34012 | AO10: 33864 | AP10: 28691 | AQ10: 40335 | AR10: 38957 | AV10: 0 | AW10: 0 | AX10: 0 | AY10: 0 | AZ10: 1598 | BA10: 3487 | BB10: 4164 | BC10: 5447 | BD10: 13811 | BE10: 17488 | BF10: 39011 | BG10: =AP10 -> 28691 | BH10: =AR10 -> 38957
B11: Outros Ativos Circulantes | C11: 15517 | D11: 12956 | E11: 12391 | F11: 9286 | G11: 19648 | H11: 15188 | I11: 23533 | J11: 14587 | K11: 20443 | L11: 18133 | M11: 13398 | N11: 16190 | O11: 21293 | P11: 22111 | Q11: 22156 | R11: 28333 | S11: 39864 | T11: 25366 | U11: 24074 | V11: 14740 | W11: 19822 | X11: 25107 | Y11: 22518 | Z11: 22524 | AA11: 65097 | AB11: 35857 | AC11: 27556 | AD11: 26121 | AE11: 29434 | AF11: 33470 | AG11: 28903 | AH11: 37915 | AI11: 34069 | AJ11: 29652 | AK11: 27033 | AL11: 20560 | AM11: 21212 | AN11: 25986 | AO11: 25116 | AP11: 31100 | AQ11: 91538 | AR11: 40860 | AV11: 9598 | AW11: 15029 | AX11: 9286 | AY11: 14587 | AZ11: 16190 | BA11: 28333 | BB11: 14740 | BC11: 22524 | BD11: 26121 | BE11: 37915 | BF11: 26310 | BG11: =AP11 -> 31100 | BH11: =AR11 -> 40860
B12: Ativo Não Circulante | C12: 721204 | D12: 726612 | E12: 707647 | F12: 701991 | G12: 706279 | H12: 706814 | I12: 726864 | J12: 729385 | K12: 746750 | L12: 975150 | M12: 980699 | N12: 1058288 | O12: 1093847 | P12: 1140121 | Q12: 950096 | R12: 981736 | S12: =SUM(S13:S16) -> 1082798 | T12: =SUM(T13:T16) -> 1118458 | U12: =SUM(U13:U16) -> 1135650 | V12: =SUM(V13:V16) -> 1117585 | W12: =SUM(W13:W16) -> 1119671 | X12: =SUM(X13:X16) -> 1123333 | Y12: =SUM(Y13:Y16) -> 1179776 | Z12: =SUM(Z13:Z16) -> 1251216 | ... AT12: =SUM(AT13:AT16) -> 0 | AV12: 634509 | AW12: 712289 | AX12: 701991 | AY12: 729385 | AZ12: 1058288 | BA12: 981736 | BB12: 1117585 | BC12: 1251564 | BD12: 1376672 | BE12: 1964253 | BF12: 2330390 | BG12: =AP12 -> 2361186 | BH12: =AR12 -> 2286732
B13: Ativo Realizável a Longo Prazo | C13: 251603 | D13: 259434 | E13: 247211 | F13: 247847 | G13: 257791 | H13: 260294 | I13: 274646 | J13: 268926 | K13: 277009 | L13: 500406 | M13: 506777 | N13: 579070 | O13: 589153 | P13: 610513 | Q13: 400163 | R13: 412190 | S13: 498182 | T13: 492998 | U13: 502090 | V13: 464497 | W13: 460110 | X13: 455447 | Y13: 493932 | Z13: 536077 | AA13: 411660 | AB13: 414610 | AC13: 352926 | AD13: 374990 | AE13: 371573 | AF13: 271781 | AG13: 264857 | AH13: 256579 | AI13: 257345 | AJ13: 302114 | AK13: 308214 | AL13: 362342 | AM13: 388981 | AN13: 412799 | AO13: 399755 | AP13: 379985 | AQ13: 355857 | AR13: 351936 | AV13: 220405 | AW13: 242657 | AX13: 247847 | AY13: 268926 | AZ13: 579070 | BA13: 412190 | BB13: 464497 | BC13: 536077 | BD13: 374990 | BE13: 256579 | BF13: 362342 | BG13: =AP13 -> 379985 | BH13: =AR13 -> 351936
B14: Investimentos | C14: 198 | D14: 217 | E14: 229 | F14: 243 | G14: 266 | H14: 277 | I14: 291 | J14: 298 | K14: 298 | L14: 298 | M14: 298 | N14: 298 | O14: 298 | P14: 307 | Q14: 315 | R14: 345 | S14: 348 | T14: 348 | U14: 348 | V14: 348 | W14: 348 | X14: 348 | Y14: 348 | Z14: 348 | AA14: 348 | AB14: 348 | AC14: 348 | AD14: 348 | AE14: 348 | AF14: 348 | AG14: 3348 | AH14: 3348 | AI14: 3348 | AJ14: 0 | AK14: 0 | AL14: 0 | AM14: 0 | AN14: 0 | AO14: 0 | AP14: 0 | AQ14: 0 | AV14: 198 | AW14: 198 | AX14: 243 | AY14: 298 | AZ14: 298 | BA14: 345 | BB14: 348 | BC14: 696 | BD14: 348 | BE14: 3348 | BF14: 0 | BG14: =AP14 -> 0 | BH14: =AR14 -> 0
B15: Imobilizado | C15: 445359 | D15: 443864 | E15: 438488 | F15: 433348 | G15: 428717 | H15: 426560 | I15: 433450 | J15: 440595 | K15: 449275 | L15: 454453 | M15: 453296 | N15: 458331 | O15: 459536 | P15: 484372 | Q15: 527309 | R15: 546809 | S15: 561101 | T15: 601410 | U15: 607294 | V15: 624267 | W15: 628093 | X15: 633818 | Y15: 648641 | Z15: 685994 | AA15: 652413 | AB15: 744422 | AC15: 835326 | AD15: 958957 | AE15: 1067753 | AF15: 1439685 | AG15: 1502862 | AH15: 1620557 | AI15: 1665683 | AJ15: 1753879 | AK15: 1726230 | AL15: 1137363 | AM15: 1773445 | AN15: 1838004 | AO15: 1791853 | AP15: 1867766 | AQ15: 1871548 | AR15: 1830896 | AV15: 392585 | AW15: 444194 | AX15: 433348 | AY15: 440595 | AZ15: 458331 | BA15: 546809 | BB15: 624267 | BC15: 685994 | BD15: 958957 | BE15: 1620557 | BF15: 1863310 | BG15: =AP15 -> 1867766 | BH15: =AR15 -> 1830896
B16: Intangível | C16: 24044 | D16: 23097 | E16: 21719 | F16: 20553 | G16: 19505 | H16: 19683 | I16: 18477 | J16: 19566 | K16: 20168 | L16: 19993 | M16: 20328 | N16: 20589 | O16: 22961 | P16: 22902 | Q16: 22309 | R16: 22392 | S16: 23167 | T16: 23702 | U16: 25918 | V16: 28473 | W16: 31120 | X16: 33720 | Y16: 36855 | Z16: 28797 | AA16: 30338 | AB16: 34041 | AC16: 39140 | AD16: 42377 | AE16: 47676 | AF16: 55374 | AG16: 73329 | AH16: 83769 | AI16: 93370 | AJ16: 98978 | AK16: 98479 | AL16: 104738 | AM16: 101757 | AN16: 108098 | AO16: 109018 | AP16: 113435 | AQ16: 107896 | AR16: 103900 | AV16: 21321 | AW16: 25240 | AX16: 20553 | AY16: 19566 | AZ16: 20589 | BA16: 22392 | BB16: 28473 | BC16: 28797 | BD16: 42377 | BE16: 83769 | BF16: 104738 | BG16: =AP16 -> 113435 | BH16: =AR16 -> 103900
B17: PASSIVO TOTAL | C17: 1329592 | D17: 1356772 | E17: 1332718 | F17: 1237360 | G17: 1249505 | H17: 1253835 | I17: 1265778 | J17: 1252008 | K17: 1257954 | L17: 1685217 | M17: 1604126 | N17: 1622155 | O17: 1750625 | P17: 1753028 | Q17: 1822286 | R17: 1836292 | S17: =S18+S25 -> 1668432 | T17: =T18+T25 -> 1554956 | U17: =U18+U25 -> 1601680 | V17: =V18+V25 -> 1617104 | W17: =W18+W25 -> 1598333 | X17: =X18+X25 -> 1571888 | Y17: =Y18+Y25 -> 1850181 | Z17: =Z18+Z25 -> 1801190 | ... AT17: =AT18+AT25 -> 0 | AV17: =AV18+AV25 -> 895068 | AW17: =AW18+AW25 -> 1120037 | AX17: =AX18+AX25 -> 998901 | AY17: =AY18+AY25 -> 966948 | AZ17: =AZ18+AZ25 -> 1260035 | BA17: =BA18+BA25 -> 1468656 | BB17: =BB18+BB25 -> 1617104 | BC17: =BC18+BC25 -> 1801190 | ... BF17: =BF18+BF25 -> 2975651 | BG17: =AP17 -> 3457024 | BH17: =AR17 -> 3603728
B18: Passivo Circulante | C18: 424026 | D18: 611104 | E18: 417926 | F18: 409155 | G18: 426023 | H18: 440826 | I18: 457020 | J18: 414310 | K18: 422284 | L18: 446660 | M18: 391747 | N18: 404068 | O18: 454415 | P18: 486831 | Q18: 590134 | R18: 613724 | S18: =SUM(S19:S24) -> 757732 | T18: =SUM(T19:T24) -> 675749 | U18: =SUM(U19:U24) -> 764174 | V18: =SUM(V19:V24) -> 740620 | W18: =SUM(W19:W24) -> 760294 | X18: =SUM(X19:X24) -> 757849 | Y18: =SUM(Y19:Y24) -> 769758 | Z18: =SUM(Z19:Z24) -> 714127 | ... AT18: =SUM(AT19:AT24) -> 0 | AV18: 460243 | AW18: 439490 | AX18: 409155 | AY18: 414310 | AZ18: 404068 | BA18: 613724 | BB18: 740620 | BC18: 714127 | BD18: 945107 | BE18: 1321165 | BF18: 1359104 | BG18: =AP18 -> 1307496 | BH18: =AR18 -> 1454006
B19: Obrigações Sociais e Trabalhistas | C19: 30417 | D19: 38833 | E19: 43098 | F19: 27155 | G19: 31170 | H19: 37441 | I19: 43547 | J19: 31330 | K19: 34526 | L19: 42985 | M19: 48700 | N19: 36734 | O19: 39276 | P19: 47223 | Q19: 51158 | R19: 41882 | S19: 45278 | T19: 55326 | U19: 64938 | V19: 46499 | W19: 53541 | X19: 66930 | Y19: 73985 | Z19: 58991 | AA19: 64972 | AB19: 79905 | AC19: 87470 | AD19: 64557 | AE19: 71779 | AF19: 83581 | AG19: 89503 | AH19: 76578 | AI19: 81009 | AJ19: 94978 | AK19: 102198 | AL19: 78295 | AM19: 82292 | AN19: 90216 | AO19: 99858 | AP19: 76299 | AQ19: 81156 | AR19: 90977 | AV19: 24501 | AW19: 29015 | AX19: 27155 | AY19: 31330 | AZ19: 36734 | BA19: 41882 | BB19: 46499 | BC19: 58991 | BD19: 64557 | BE19: 76578 | BF19: 78295 | BG19: =AP19 -> 76299 | BH19: =AR19 -> 90977
B20: Fornecedores | C20: 141208 | D20: 141650 | E20: 140699 | F20: 124451 | G20: 133219 | H20: 130605 | I20: 154147 | J20: 168745 | K20: 178010 | L20: 175261 | M20: 176047 | N20: 182363 | O20: 192292 | P20: 175383 | Q20: 207669 | R20: 227140 | S20: 299199 | T20: 267027 | U20: 261788 | V20: 292650 | W20: 297100 | X20: 316885 | Y20: 352927 | Z20: 365652 | AA20: 357557 | AB20: 434646 | AC20: 440546 | AD20: 460832 | AE20: 411186 | AF20: 428639 | AG20: 464134 | AH20: 549082 | AI20: 516378 | AJ20: 548146 | AK20: 517992 | AL20: 375775 | AM20: 703275 | AN20: 435997 | AO20: 455893 | AP20: 669676 | AQ20: 628683 | AR20: 614187 | AV20: 171839 | AW20: 142994 | AX20: 124451 | AY20: 168745 | AZ20: 182363 | BA20: 227140 | BB20: 292650 | BC20: 365652 | BD20: 460832 | BE20: 549082 | BF20: 518696 | BG20: =AP20 -> 669676 | BH20: =AR20 -> 614187
B21: Obrigações Fiscais | C21: 25584 | D21: 29267 | E21: 25194 | F21: 25188 | G21: 26724 | H21: 27418 | I21: 32553 | J21: 31157 | K21: 22857 | L21: 24842 | M21: 14426 | N21: 15053 | O21: 6158 | P21: 6061 | Q21: 8690 | R21: 12663 | S21: 10949 | T21: 13182 | U21: 30332 | V21: 24440 | W21: 21952 | X21: 21086 | Y21: 28598 | Z21: 28070 | AA21: 29003 | AB21: 32890 | AC21: 31046 | AD21: 30898 | AE21: 35570 | AF21: 36725 | AG21: 41966 | AH21: 30508 | AI21: 37173 | AJ21: 34805 | AK21: 52229 | AL21: 40397 | AM21: 48634 | AN21: 54249 | AO21: 48834 | AP21: 33464 | AQ21: 47093 | AR21: 30588 | AV21: 26067 | AW21: 20400 | AX21: 25188 | AY21: 31157 | AZ21: 15053 | BA21: 12663 | BB21: 24440 | BC21: 28070 | BD21: 30898 | BE21: 30508 | BF21: 40397 | BG21: =AP21 -> 33464 | BH21: =AR21 -> 30588
B22: Empréstimos e Financiamentos | C22: 144405 | D22: 334311 | E22: 146060 | F22: 160474 | G22: 168366 | H22: 183309 | I22: 189638 | J22: 182443 | K22: 186778 | L22: 134739 | M22: 102565 | N22: 101721 | O22: 136259 | P22: 167408 | Q22: 224161 | R22: 233769 | S22: 288655 | T22: 251750 | U22: 271998 | V22: 223908 | W22: 248916 | X22: 223859 | Y22: 143943 | Z22: 98115 | AA22: 74560 | AB22: 82046 | AC22: 146766 | AD22: 165903 | AE22: 371298 | AF22: 393480 | AG22: 412333 | AH22: 456037 | AI22: 293863 | AJ22: 392471 | AK22: 411811 | AL22: 406014 | AM22: 448057 | AN22: 217194 | AO22: 224175 | AP22: 219270 | AQ22: 214839 | AR22: 381306 | AV22: 134719 | AW22: 135380 | AX22: 160474 | AY22: 182443 | AZ22: 101721 | BA22: 233769 | BB22: 223908 | BC22: 98115 | BD22: 165903 | BE22: 456037 | BF22: 406014 | BG22: =AP22 -> 219270 | BH22: =AR22 -> 381306
B23: Outras Obrigações | C23: 49891 | D23: 56243 | E23: 50059 | F23: 56879 | G23: 50820 | H23: 54650 | I23: 66702 | J23: 86563 | K23: 83403 | L23: 88404 | M23: 46150 | N23: 66933 | O23: 77226 | P23: 86566 | Q23: 96510 | R23: 98270 | S23: 113651 | T23: 88464 | U23: 129903 | V23: 142354 | W23: 124204 | X23: 119861 | Y23: 154308 | Z23: 139049 | AA23: 120797 | AB23: 148714 | AC23: 198769 | AD23: 212426 | AE23: 219828 | AF23: 247288 | AG23: 205617 | AH23: 208960 | AI23: 209578 | AJ23: 273710 | AK23: 256732 | AL23: 458623 | AM23: 264279 | AN23: 537051 | AO23: 497029 | AP23: 308787 | AQ23: 346881 | AR23: 336948 | AV23: 86005 | AW23: 47481 | AX23: 56879 | AY23: 86563 | AZ23: 66933 | BA23: 98270 | BB23: 142354 | BC23: 139049 | BD23: 212426 | BE23: 208960 | BF23: 315702 | BG23: =AP23 -> 308787 | BH23: =AR23 -> 336948
B24: Provisões | C24: 6282 | D24: 1609 | E24: 1600 | F24: 0 | G24: 2147 | H24: 5836 | I24: 4844 | J24: 4289 | K24: 5677 | L24: 2924 | M24: 3859 | N24: 1264 | O24: 3204 | P24: 4190 | Q24: 1946 | R24: 0 | S24: 0 | T24: 0 | U24: 5215 | V24: 10769 | W24: 14581 | X24: 9228 | Y24: 15997 | Z24: 24250 | AA24: 14581 | AB24: 10357 | AC24: 14425 | AD24: 10491 | AE24: 13070 | AF24: 0 | AG24: 0 | AH24: 0 | AI24: 0 | AJ24: 0 | AK24: 0 | AL24: 0 | AM24: 0 | AN24: 0 | AO24: 0 | AP24: 0 | AQ24: 0 | AR24: 0 | AV24: 24278 | AW24: 4528 | AX24: 0 | AY24: 4289 | AZ24: 1264 | BA24: 0 | BB24: 10769 | BC24: 24250 | BD24: 10491 | BE24: 0 | BF24: 0 | BG24: =AP24 -> 0 | BH24: =AR24 -> 0
B25: Passivo Não Circulante | C25: 672867 | D25: 502677 | E25: 673466 | F25: 589746 | G25: 563297 | H25: 533808 | I25: 520191 | J25: 552638 | K25: 543885 | L25: 876597 | M25: 860560 | N25: 855967 | O25: 951900 | P25: 896697 | Q25: 869729 | R25: 854932 | S25: 910700 | T25: 879207 | U25: 837506 | V25: 876484 | W25: 838039 | X25: 814039 | Y25: 1080423 | Z25: 1087063 | AA25: 980369 | AB25: 978025 | AC25: 888085 | AD25: 1067419 | AE25: 1170742 | AF25: 1492656 | AG25: 1439712 | AH25: 1588854 | AI25: 1744562 | AJ25: 1596199 | AK25: 1510052 | AL25: =SUM(AL26:AL28) -> 1616547 | AM25: =SUM(AM26:AM28) -> 1749006 | AN25: =SUM(AN26:AN28) -> 2033971 | AO25: =SUM(AO26:AO28) -> 2046747 | AP25: =SUM(AP26:AP28) -> 2149528 | AQ25: =SUM(AQ26:AQ28) -> 2314230 | AR25: =SUM(AR26:AR28) -> 2149722 | AS25: =SUM(AS26:AS28) -> 0 | AT25: =SUM(AT26:AT28) -> 0 | AV25: 434825 | AW25: 680547 | AX25: 589746 | AY25: 552638 | AZ25: 855967 | BA25: 854932 | BB25: 876484 | BC25: 1087063 | BD25: 1067419 | BE25: 1588854 | BF25: 1616547 | BG25: =AP25 -> 2149528 | BH25: =AR25 -> 2149722
B26: Empréstimos e Financiamentos | C26: 472964 | D26: 299633 | E26: 465089 | F26: 389657 | G26: 373097 | H26: 340961 | I26: 327329 | J26: 367159 | K26: 351538 | L26: 543913 | M26: 525098 | N26: 493916 | O26: 574213 | P26: 517028 | Q26: 566198 | R26: 522607 | S26: 506797 | T26: 497986 | U26: 478028 | V26: 503858 | W26: 461378 | X26: 419701 | Y26: 678319 | Z26: 664277 | AA26: 654379 | AB26: 649020 | AC26: 569322 | AD26: 717668 | AE26: 753597 | AF26: 871317 | AG26: 780290 | AH26: 884904 | AI26: 1002929 | AJ26: 879759 | AK26: 779203 | AL26: 757689 | AM26: 972864 | AN26: 1067626 | AO26: 1061075 | AP26: 1068046 | AQ26: 1155497 | AR26: 991019 | AV26: 274646 | AW26: 487014 | AX26: 389657 | AY26: 367159 | AZ26: 493916 | BA26: 522607 | BB26: 503858 | BC26: 664277 | BD26: 717668 | BE26: 884904 | BF26: 757689 | BG26: =AP26 -> 1068046 | BH26: =AR26 -> 991019
B27: Outras Obrigações | C27: 129183 | D27: 133274 | E27: 135018 | F27: 138332 | G27: 139129 | H27: 139903 | I27: 140621 | J27: 141144 | K27: 142275 | L27: 143280 | M27: 206060 | N27: 220319 | O27: 239760 | P27: 242912 | Q27: 180368 | R27: 212093 | S27: 266121 | T27: 319282 | U27: 294816 | V27: 309053 | W27: 311062 | X27: 327098 | Y27: 331187 | Z27: 333772 | AA27: 234890 | AB27: 237540 | AC27: 229463 | AD27: 261382 | AE27: 328343 | AF27: 527614 | AG27: 569828 | AH27: 617592 | AI27: 653869 | AJ27: 650327 | AK27: 667216 | AL27: 801227 | AM27: 719792 | AN27: 904467 | AO27: 926509 | AP27: 1014485 | AQ27: 1106048 | AR27: 1105212 | AV27: 109982 | AW27: 121342 | AX27: 138332 | AY27: 141144 | AZ27: 220319 | BA27: 212093 | BB27: 309053 | BC27: 333772 | BD27: 261382 | BE27: 617592 | BF27: 801227 | BG27: =AP27 -> 1014485 | BH27: =AR27 -> 1105212
B28: Provisões | C28: 106850 | D28: 117142 | E28: 127740 | F28: 117014 | G28: 76724 | H28: 68760 | I28: 71144 | J28: 60298 | K28: 77062 | L28: 246622 | M28: 127262 | N28: 139767 | O28: 137927 | P28: 136757 | Q28: 123163 | R28: 120232 | S28: 137782 | T28: 61939 | U28: 64662 | V28: 63573 | W28: 65599 | X28: 67240 | Y28: 70917 | Z28: 89014 | AA28: 91100 | AB28: 91465 | AC28: 89300 | AD28: 88369 | AE28: 88802 | AF28: 93725 | AG28: 89594 | AH28: 79971 | AI28: 81377 | AJ28: 59726 | AK28: 57246 | AL28: 57631 | AM28: 56350 | AN28: 61878 | AO28: 59163 | AP28: 66997 | AQ28: 52685 | AR28: 53491 | AV28: 40026 | AW28: 101052 | AX28: 117014 | AY28: 60298 | AZ28: 139767 | BA28: 120232 | BB28: 63573 | BC28: 89014 | BD28: 88369 | BE28: 79971 | BF28: 57631 | BG28: =AP28 -> 66997 | BH28: =AR28 -> 53491
B29: PATRIMÔNIO LÍQUIDO CONSOLIDADO | C29: 232699 | D29: 242991 | E29: 241326 | F29: 238459 | G29: 260185 | H29: 279201 | I29: 288567 | J29: 285060 | K29: 291785 | L29: 361960 | M29: 351819 | N29: 362120 | O29: 344310 | P29: 369500 | Q29: 362423 | R29: 367636 | S29: 371313 | T29: 411359 | U29: 421673 | V29: 417184 | W29: 397740 | X29: 403130 | Y29: 373404 | Z29: 356157 | AA29: 408588 | AB29: 453343 | AC29: 456102 | AD29: 467244 | AE29: 458512 | AF29: 373944.98 | AG29: 382269 | AH29: =SUM(AH30:AH34) -> 385989 | AI29: =SUM(AI30:AI34) -> 371118 | AJ29: =SUM(AJ30:AJ34) -> 388941 | AK29: =SUM(AK30:AK34) -> 394844 | AL29: =SUM(AL30:AL34) -> 371119 | AM29: =SUM(AM30:AM34) -> 315792 | AN29: =SUM(AN30:AN34) -> 248677 | AO29: =SUM(AO30:AO34) -> 194563 | ... AT29: =SUM(AT30:AT34) -> 0 | AV29: 237280 | AW29: 231856 | AX29: 238459 | AY29: 285060 | AZ29: 362120 | BA29: 367636 | BB29: =SUM(BB30:BB34) -> 417184 | BC29: =SUM(BC30:BC34) -> 356157 | BD29: =SUM(BD30:BD34) -> 467244 | BE29: =SUM(BE30:BE34) -> 385989 | BF29: =SUM(BF30:BF34) -> 371119 | BG29: =AP29 -> 26502 | BH29: =AR29 -> -103923
B30: Capital Social Realizado | C30: 99565 | D30: 119565 | E30: 119565 | F30: 119565 | G30: 119565 | H30: 130000 | I30: 130000 | J30: 130000 | K30: 130000 | L30: 140000 | M30: 140000 | N30: 140000 | O30: 140000 | P30: 200000 | Q30: 200000 | R30: 200000 | S30: 200000 | T30: 200000 | U30: 200000 | V30: 200000 | W30: 200000 | X30: 250000 | Y30: 250000 | Z30: 250000 | AA30: 250000 | AB30: 250000 | AC30: 250000 | AD30: 250000 | AE30: 250000 | AF30: 250000 | AG30: 250000 | AH30: 250000 | AI30: 250000 | AJ30: 250000 | AK30: 250000 | AL30: 250000 | AM30: 250000 | AN30: 250000 | AO30: 250000 | AP30: 250000 | AQ30: 250000 | AR30: 250000 | AV30: 76565 | AW30: 99565 | AX30: 119565 | AY30: 130000 | AZ30: 140000 | BA30: 200000 | BB30: 200000 | BC30: 250000 | BD30: 250000 | BE30: 250000 | BF30: 250000 | BG30: =AP30 -> 250000 | BH30: =AR30 -> 250000
B31: Reservas de Capital | C31: 0 | D31: 0 | E31: 0 | F31: 0 | G31: 0 | H31: 0 | I31: 0 | J31: 0 | K31: 0 | L31: 0 | M31: 0 | N31: 0 | O31: 0 | P31: 0 | Q31: 0 | R31: 0 | S31: 0 | T31: -7498 | U31: -9027 | V31: -14095 | W31: -62364 | X31: -996 | Y31: -91351 | Z31: -91351 | AA31: 0 | AB31: 0 | AC31: 0 | AD31: 0 | AE31: 0 | AF31: 0 | AG31: 0 | AH31: 0 | AI31: 0 | AJ31: 0 | AK31: 0 | AL31: 0 | AM31: 0 | AN31: 0 | AO31: 0 | AP31: 0 | AQ31: 0 | AR31: 0 | AV31: 0 | AW31: 0 | AX31: 0 | AY31: 0 | AZ31: 0 | BA31: 0 | BB31: -14095 | BC31: -91351 | BD31: 0 | BE31: 0 | BF31: 0 | BG31: =AP31 -> 0 | BH31: =AR31 -> 0
B32: Reservas de Lucros | C32: 133269 | D32: 116720 | E32: 116096 | F32: 121129 | G32: 141289 | H32: 153019 | I32: 159803 | J32: 159220 | K32: 166507 | L32: 237339 | M32: 230326 | N32: 235960 | O32: 219049 | P32: 183475 | Q32: 180860 | R32: 189844 | S32: 211144 | T32: 263190 | U32: 278290 | V32: 281388 | W32: 308000 | X32: 205653 | Y32: 268295 | Z32: 240097 | AA32: 183197 | AB32: 237207 | AC32: 245335 | AD32: 255311 | AE32: 240535 | AF32: 172924 | AG32: 177195 | AH32: 191785 | AI32: 171383 | AJ32: 160138 | AK32: 163061 | AL32: 90965 | AM32: 58546 | AN32: 14658 | AO32: -26112 | AP32: -199554 | AQ32: -240381 | AR32: -302812 | AV32: 143749 | AW32: 139193 | AX32: 121129 | AY32: 159220 | AZ32: 235960 | BA32: 189844 | BB32: 281388 | BC32: 240097 | BD32: 255311 | BE32: 191785 | BF32: 90965 | BG32: =AP32 -> -199554 | BH32: =AR32 -> -302812
B33: Ajustes de Avaliação Patrimonial | C33: -149 | D33: 6686 | E33: 5643 | F33: -2246 | G33: -688 | H33: -3845 | I33: -1273 | J33: -4172 | K33: -4741 | L33: -15405 | M33: -18541 | N33: -13852 | O33: -14755 | P33: -14002 | Q33: -18475 | R33: -22224 | S33: -39856 | T33: -44363 | U33: -47633 | V33: -50125 | W33: -47915 | X33: -51554 | Y33: -53554 | Z33: -42610 | AA33: -24632 | AB33: -33900 | AC33: -39249 | AD33: -38095 | AE33: -32062 | AF33: -49028.02 | AG33: -44974 | AH33: -55851 | AI33: -50272 | AJ33: -21209 | AK33: -18235 | AL33: 30138 | AM33: 7227 | AN33: -16004 | AO33: -29353 | AP33: -23971 | AQ33: -46579 | AR33: -51135 | AV33: 16956 | AW33: -6912 | AX33: -2246 | AY33: -4172 | AZ33: -13852 | BA33: -22224 | BB33: -50125 | BC33: -42610 | BD33: -38095 | BE33: -55851 | BF33: 30138 | BG33: =AP33 -> -23971 | BH33: =AR33 -> -51135
B34: Participação dos Acionistas Não Controladores | C34: 14 | D34: 20 | E34: 22 | F34: 11 | G34: 19 | H34: 27 | I34: 37 | J34: 12 | K34: 19 | L34: 26 | M34: 34 | N34: 12 | O34: 16 | P34: 27 | Q34: 38 | R34: 16 | S34: 25 | T34: 30 | U34: 43 | V34: 16 | W34: 19 | X34: 27 | Y34: 14 | Z34: 21 | AA34: 23 | AB34: 36 | AC34: 16 | AD34: 28 | AE34: 39 | AF34: 49 | AG34: 48 | AH34: 55 | AI34: 7 | AJ34: 12 | AK34: 18 | AL34: 16 | AM34: 19 | AN34: 23 | AO34: 28 | AP34: 27 | AQ34: 25 | AR34: 24 | AV34: 10 | AW34: 10 | AX34: 11 | AY34: 12 | AZ34: 12 | BA34: 16 | BB34: 16 | BC34: 21 | BD34: 28 | BE34: 55 | BF34: 16 | BG34: =AP34 -> 27 | BH34: =AR34 -> 24
B38: Check | S38: =(S29+S17)-S4 -> 0 | T38: =(T29+T17)-T4 -> 0 | U38: =(U29+U17)-U4 -> 0 | V38: =(V29+V17)-V4 -> 0 | W38: =(W29+W17)-W4 -> 0 | X38: =(X29+X17)-X4 -> 0 | Y38: =(Y29+Y17)-Y4 -> 0 | Z38: =(Z29+Z17)-Z4 -> 0 | AB38: =(AB29+AB17)-AB4 -> 0 | AC38: =(AC29+AC17)-AC4 -> 0 | AD38: =(AD29+AD17)-AD4 -> 0 | AE38: =(AE29+AE17)-AE4 -> 0 | AG38: =(AG29+AG17)-AG4 -> 0 | AH38: =(AH29+AH17)-AH4 -> 0 | AI38: =(AI29+AI17)-AI4 -> 0 | AJ38: =(AJ29+AJ17)-AJ4 -> 0 | AK38: =(AK29+AK17)-AK4 -> 0 | AL38: =(AL29+AL17)-AL4 -> 725947 | AM38: =(AM29+AM17)-AM4 -> 0 | AN38: =(AN29+AN17)-AN4 -> 0 | ... AQ38: =(AQ29+AQ17)-AQ4 -> 0 | AV38: =(AV29+AV17)-AV4 -> 0 | AW38: =(AW29+AW17)-AW4 -> 0 | AX38: =(AX29+AX17)-AX4 -> 0 | AY38: =(AY29+AY17)-AY4 -> 0 | AZ38: =(AZ29+AZ17)-AZ4 -> 0 | BA38: =(BA29+BA17)-BA4 -> 0 | BB38: =(BB29+BB17)-BB4 -> 0 | BC38: =(BC29+BC17)-BC4 -> 0 | ... BF38: =(BF29+BF17)-BF4 -> 0 | BG38: 0 | BH38: 0

Sheet DRE
B2: Demonstração do Resultado do Exercício Consolidado - DRE (R$ mil) | C2: 1T16 | D2: 2T16 | E2: 3T16 | F2: 4T16 | G2: 1T17 | H2: 2T17 | I2: 3T17 | J2: 4T17 | K2: 1T18 | L2: 2T18 | M2: 3T18 | N2: 4T18 | O2: 1T19 | P2: 2T19 | Q2: 3T19 | R2: 4T19 | S2: 1T20 | T2: 2T20 | U2: 3T20 | V2: 4T20 | W2: 1T21 | X2: 2T21 | Y2: 3T21 | Z2: 4T21 | AA2: 1T22 | AB2: 2T22 | AC2: 3T22 | AD2: 4T22 | AE2: 1T23 | AF2: 2T23 | AG2: 3T23 | AH2: 4T23 | AI2: 1T24 | AJ2: 2T24 | AK2: 3T24 | AL2: 4T24 | AM2: 1T25 | AN2: 2T25 | AO2: 3T25 | AP2: 4T25 | AQ2: 1T26 | AR2: 2T26 | AS2: 3T26 | AT2: 4T26 | AV2: 2014 | AW2: 2015 | AX2: 2016 | AY2: 2017 | AZ2: 2018 | BA2: 2019 | BB2: 2020 | BC2: 2021 | BD2: 2022 | BE2: 2023 | BF2: 2024 | BG2: 2025 | BH2: 2026
B4: Receita de Venda de Bens e/ou Serviços | C4: 241361 | D4: 256578 | E4: 273316 | F4: 245145 | G4: 235634 | H4: 258528 | I4: 275612 | J4: 254163 | K4: 245901 | L4: 266154 | M4: 277114 | N4: =AZ4-SUM(K4:M4) -> 265021 | O4: 239232 | P4: 277433 | Q4: 296486 | R4: 301118 | S4: 274180 | T4: 241743 | U4: 414732 | V4: 401125 | W4: 416393 | X4: 464261 | Y4: 519380 | Z4: 512093 | AA4: 524955 | AB4: 577458 | AC4: 597924 | AD4: 496344 | AE4: 487751 | AF4: 548825 | AG4: 598023 | AH4: 556235 | AI4: 525457 | AJ4: 589075 | AK4: 661598 | AL4: 631676 | AM4: 591855 | AN4: 686794 | AO4: 685068 | AP4: 642431 | AQ4: 597185 | AR4: 651277 | AV4: 949147 | AW4: 1060395 | AX4: 1016400 | AY4: 1023937 | AZ4: 1054190 | BA4: 1114269 | BB4: 1331780 | BC4: 1912127 | BD4: 2196681 | BE4: 2190834 | BF4: 2407806 | BG4: =SUM(AM4:AP4) -> 2606148 | BH4: =SUM(AQ4:AT4) -> 1248462
B5: Custo dos Bens e/ou Serviços Vendidos | C5: -151789 | D5: -169520 | E5: -174878 | F5: -157011 | G5: -139757 | H5: -149831 | I5: -163139 | J5: -154190 | K5: -147630 | L5: -156009 | M5: -170097 | N5: -174854 | O5: -163536 | P5: -183959 | Q5: -201612 | R5: -202543 | S5: -179030 | T5: -186105 | U5: -262592 | V5: -243611 | W5: -237909 | X5: -273848 | Y5: -295875 | Z5: -277407 | AA5: -286568 | AB5: -324894 | AC5: -340525 | AD5: -299080 | AE5: -295529 | AF5: -334265 | AG5: -357103 | AH5: -348519 | AI5: -329650 | AJ5: -373961 | AK5: -408094 | AL5: -430729 | AM5: -367749 | AN5: -434407 | AO5: -432106 | AP5: -440022 | AQ5: -397715 | AR5: -404533 | AV5: -591929 | AW5: -664193 | AX5: -653198 | AY5: -606917 | AZ5: -648590 | BA5: -751650 | BB5: -871338 | BC5: -1085039 | BD5: -1251067 | BE5: -1335416 | BF5: -1542434 | BG5: =SUM(AM5:AP5) -> -1674284 | BH5: =SUM(AQ5:AT5) -> -802248
B6: Resultado Bruto | C6: 89572 | D6: 87058 | E6: 98438 | F6: 88134 | G6: 95877 | H6: 108697 | I6: 112473 | J6: 99973 | K6: 98271 | L6: 110145 | M6: 107017 | N6: 90167 | O6: 75696 | P6: 93474 | Q6: 94874 | R6: 98575 | S6: 95150 | T6: 55638 | U6: 152140 | V6: 157514 | W6: =SUM(W4:W5) -> 178484 | X6: =SUM(X4:X5) -> 190413 | Y6: =SUM(Y4:Y5) -> 223505 | Z6: =SUM(Z4:Z5) -> 234686 | AA6: =SUM(AA4:AA5) -> 238387 | AB6: =SUM(AB4:AB5) -> 252564 | AC6: =SUM(AC4:AC5) -> 257399 | AD6: =SUM(AD4:AD5) -> 197264 | ... AT6: =SUM(AT4:AT5) -> 0 | AV6: 357218 | AW6: 396202 | AX6: 363202 | AY6: 417020 | AZ6: 405600 | BA6: 362619 | BB6: 460442 | BC6: =SUM(BC4:BC5) -> 827088 | BD6: =SUM(BD4:BD5) -> 945614 | BE6: =SUM(BE4:BE5) -> 855418 | BF6: =SUM(BF4:BF5) -> 865372 | BG6: =SUM(BG4:BG5) -> 931864 | BH6: =SUM(BH4:BH5) -> 446214
B7: Despesas/Receitas Operacionais | C7: -76911 | D7: -66352 | E7: -69182 | F7: -74949 | G7: -53000 | H7: -68436 | I7: -78017 | J7: -68561 | K7: -74662 | L7: 39858 | M7: -93452 | N7: -32940 | O7: -85959 | P7: -42794 | Q7: -76256 | R7: -82539 | S7: -73471 | T7: -65051 | U7: -106291 | V7: -100050 | W7: -113216 | X7: =SUM(X8:X10) -> -123883 | Y7: =SUM(Y8:Y10) -> -138111 | Z7: -163137 | AA7: =SUM(AA8:AA10) -> -140272 | AB7: =SUM(AB8:AB10) -> -163091 | AC7: =SUM(AC8:AC10) -> -172104 | AD7: =SUM(AD8:AD10) -> -155902 | AE7: =SUM(AE8:AE10) -> -172394 | AF7: =SUM(AF8:AF10) -> -185558 | AG7: =SUM(AG8:AG10) -> -182868 | AH7: =SUM(AH8:AH10) -> -178981 | AI7: =SUM(AI8:AI10) -> -158115 | AJ7: -167234 | AK7: -197491 | AL7: -212480 | AM7: =SUM(AM8:AM10) -> -198712 | AN7: =SUM(AN8:AN10) -> -208676 | AO7: =SUM(AO8:AO10) -> -204343 | AP7: =SUM(AP8:AP10) -> -205611 | AQ7: =SUM(AQ8:AQ10) -> -157963 | AR7: =SUM(AR8:AR10) -> -208365 | AS7: =SUM(AS8:AS10) -> 0 | AT7: =SUM(AT8:AT10) -> 0 | AV7: -206484 | AW7: -261797 | AX7: -287394 | AY7: -268014 | AZ7: -161196 | BA7: -287548 | BB7: -344863 | BC7: =SUM(BC8:BC10) -> -538347 | BD7: =SUM(BD8:BD10) -> -631369 | BE7: =SUM(BE8:BE10) -> -719801 | BF7: =SUM(BF8:BF10) -> -731142 | BG7: =SUM(BG8:BG10) -> -817342 | BH7: =SUM(BH8:BH10) -> -366328
B8: Despesas com Vendas | C8: -61146 | D8: -59609 | E8: -63624 | F8: -66365 | G8: -56686 | H8: -62407 | I8: -64394 | J8: -63023 | K8: -63825 | L8: -73066 | M8: -76690 | N8: -72038 | O8: -72657 | P8: -72645 | Q8: -77770 | R8: -83365 | S8: -74630 | T8: -70125 | U8: -86857 | V8: -87536 | W8: -91680 | X8: -101558 | Y8: -105678 | Z8: -122371 | AA8: -118901 | AB8: -129523 | AC8: -145665 | AD8: -139900 | AE8: -143851 | AF8: -163865 | AG8: -156883 | AH8: -163180 | AI8: -150174 | AJ8: -162028 | AK8: -167592 | AL8: -182855 | AM8: -164029 | AN8: -174650 | AO8: -176530 | AP8: -172602 | AQ8: -160165 | AR8: -168404 | AV8: -163542 | AW8: -214205 | AX8: -250744 | AY8: -246510 | AZ8: -285619 | BA8: -306437 | BB8: -319148 | BC8: -421287 | BD8: -533989 | BE8: -627779 | BF8: -661703 | BG8: =SUM(AM8:AP8) -> -687811 | BH8: =SUM(AQ8:AT8) -> -328569
B9: Despesas Gerais e Administrativas | C9: -8911 | D9: -9705 | E9: -8567 | F9: -9972 | G9: -8275 | H9: -8844 | I9: -7735 | J9: -11023 | K9: -9260 | L9: -10043 | M9: -11356 | N9: -14799 | O9: -10674 | P9: -9870 | Q9: -9497 | R9: -10832 | S9: -10715 | T9: -10211 | U9: -11614 | V9: -12383 | W9: -13529 | X9: -15620 | Y9: -17757 | Z9: -22074 | AA9: -18331 | AB9: -24089 | AC9: -22218 | AD9: -25527 | AE9: -23807 | AF9: -33177 | AG9: -27627 | AH9: -34232 | AI9: -30859 | AJ9: -35113 | AK9: -35340 | AL9: -38658 | AM9: -30295 | AN9: -34672 | AO9: -35116 | AP9: -35977 | AQ9: -36462 | AR9: -34024 | AV9: -30461 | AW9: -34568 | AX9: -37155 | AY9: -35877 | AZ9: -45458 | BA9: -40873 | BB9: -44923 | BC9: -68980 | BD9: -90165 | BE9: -118843 | BF9: -139970 | BG9: =SUM(AM9:AP9) -> -136060 | BH9: =SUM(AQ9:AT9) -> -70486
B10: Outras Receitas/(-) Despesas Operacionais, líquidas | C10: -6854 | D10: 2962 | E10: 3009 | F10: 1388 | G10: 11961 | H10: 2815 | I10: -5888 | J10: 5485 | K10: -1577 | L10: 122967 | M10: -5406 | N10: 53897 | O10: -2628 | P10: 39721 | Q10: 11011 | R10: 11658 | S10: 11874 | T10: 15285 | U10: -7820 | V10: -131 | W10: -8007 | X10: -6705 | Y10: -14676 | Z10: -18692 | AA10: -3040 | AB10: -9479 | AC10: -4221 | AD10: 9525 | AE10: -4736 | AF10: 11484 | AG10: 1642 | AH10: 18431 | AI10: 22918 | AJ10: 29907 | AK10: 5441 | AL10: 12265 | AM10: -4388 | AN10: 646 | AO10: 7303 | AP10: 2968 | AQ10: 38664 | AR10: -5937 | AV10: -12481 | AW10: -13024 | AX10: 505 | AY10: 14373 | AZ10: 169881 | BA10: 59762 | BB10: 19208 | BC10: -48080 | BD10: -7215 | BE10: 26821 | BF10: 70531 | BG10: =SUM(AM10:AP10) -> 6529 | BH10: =SUM(AQ10:AT10) -> 32727
B11: Resultado Antes do Resultado Financeiro e dos Tributos (LAJI) | C11: 12661 | D11: 20706 | E11: 29256 | F11: 13185 | G11: 42877 | H11: 40261 | I11: 34456 | J11: 31412 | K11: 23609 | L11: 150003 | M11: 13565 | N11: 57227 | O11: -10263 | P11: 50680 | Q11: 18618 | R11: 16036 | S11: 21679 | T11: -9413 | U11: 45849 | V11: 57464 | W11: =SUM(W6:W7) -> 65268 | X11: =SUM(X6:X7) -> 66530 | Y11: =SUM(Y6:Y7) -> 85394 | Z11: =SUM(Z6:Z7) -> 71549 | AA11: =SUM(AA6:AA7) -> 98115 | AB11: =SUM(AB6:AB7) -> 89473 | AC11: =SUM(AC6:AC7) -> 85295 | AD11: =SUM(AD6:AD7) -> 41362 | ... AT11: =SUM(AT6:AT7) -> 0 | AV11: 150734 | AW11: 134405 | AX11: 75808 | AY11: 149006 | AZ11: 244404 | BA11: 75071 | BB11: 115579 | BC11: =SUM(BC6:BC7) -> 288741 | BD11: =SUM(BD6:BD7) -> 314245 | BE11: =SUM(BE6:BE7) -> 135617 | BF11: =SUM(BF6:BF7) -> 134230 | BG11: =SUM(BG6:BG7) -> 114522 | BH11: =SUM(BH6:BH7) -> 79886
B12: Resultado Financeiro | C12: -19620 | D12: -18873 | E12: -30816 | F12: -12386 | G12: -15445 | H12: -10095 | I12: -15911 | J12: -26563 | K12: -15203 | L12: -5397 | M12: -10545 | N12: -16946 | O12: -12910 | P12: -18889 | Q12: -24090 | R12: -19223 | S12: 10703 | T12: -2336 | U12: -21109 | V12: -17272 | W12: -11491 | X12: =SUM(X13:X14) -> -24509 | Y12: =SUM(Y13:Y14) -> -14653 | Z12: -8579 | AA12: =SUM(AA13:AA14) -> -41344 | AB12: =SUM(AB13:AB14) -> -9711 | AC12: =SUM(AC13:AC14) -> -20646 | AD12: =SUM(AD13:AD14) -> -37960 | AE12: =SUM(AE13:AE14) -> -36715 | AF12: =SUM(AF13:AF14) -> -62096 | AG12: =SUM(AG13:AG14) -> -48147 | AH12: =SUM(AH13:AH14) -> -12223 | AI12: =SUM(AI13:AI14) -> -52393 | AJ12: -61132 | AK12: -52384 | AL12: -73715 | AM12: =SUM(AM13:AM14) -> -63429 | AN12: =SUM(AN13:AN14) -> -92586 | AO12: =SUM(AO13:AO14) -> -75274 | AP12: =SUM(AP13:AP14) -> -122148 | AQ12: =SUM(AQ13:AQ14) -> -79663 | AR12: =SUM(AR13:AR14) -> -96837 | AS12: =SUM(AS13:AS14) -> 0 | AT12: =SUM(AT13:AT14) -> 0 | AV12: -21206 | AW12: -58024 | AX12: -81695 | AY12: -68014 | AZ12: -48091 | BA12: -75112 | BB12: -30014 | BC12: =SUM(BC13:BC14) -> -59232 | BD12: =SUM(BD13:BD14) -> -109661 | BE12: =SUM(BE13:BE14) -> -159181 | BF12: =SUM(BF13:BF14) -> -239624 | BG12: =SUM(BG13:BG14) -> -353437 | BH12: =SUM(BH13:BH14) -> -176500
B13: Receitas Financeiras | C13: 11537 | D13: 9952 | E13: 7086 | F13: 6598 | G13: 5781 | H13: 9669 | I13: 1825 | J13: 7617 | K13: 2404 | L13: 11657 | M13: 5250 | N13: 1132 | O13: 5059 | P13: 2135 | Q13: 11675 | R13: -2410 | S13: 28866 | T13: 14535 | U13: 3131 | V13: 1416 | W13: 3898 | X13: 1834 | Y13: 8309 | Z13: 16694 | AA13: 4283 | AB13: 5738 | AC13: 13412 | AD13: -5278 | AE13: 4299 | AF13: 10501 | AG13: 11364 | AH13: 11292 | AI13: 6043 | AJ13: 5345 | AK13: 4995 | AL13: 6251 | AM13: 3957 | AN13: 9802 | AO13: 10658 | AP13: 9748 | AQ13: 9071 | AR13: 7023 | AV13: 29581 | AW13: 50244 | AX13: 35173 | AY13: 24892 | AZ13: 20443 | BA13: 16459 | BB13: 47948 | BC13: 30735 | BD13: 18155 | BE13: 37456 | BF13: 22634 | BG13: =SUM(AM13:AP13) -> 34165 | BH13: =SUM(AQ13:AT13) -> 16094
B14: Despesas Financeiras | C14: -31157 | D14: -28825 | E14: -37902 | F14: -18984 | G14: -21226 | H14: -19764 | I14: -17736 | J14: -34180 | K14: -17607 | L14: -17054 | M14: -15795 | N14: -18078 | O14: -17969 | P14: -21024 | Q14: -35765 | R14: -16813 | S14: -18163 | T14: -16871 | U14: -24240 | V14: -18688 | W14: -15389 | X14: -26343 | Y14: -22962 | Z14: -25273 | AA14: -45627 | AB14: -15449 | AC14: -34058 | AD14: -32682 | AE14: -41014 | AF14: -72597 | AG14: -59511 | AH14: -23515 | AI14: -58436 | AJ14: -66477 | AK14: -57379 | AL14: -79966 | AM14: -67386 | AN14: -102388 | AO14: -85932 | AP14: -131896 | AQ14: -88734 | AR14: -103860 | AV14: -50787 | AW14: -108268 | AX14: -116868 | AY14: -92906 | AZ14: -68534 | BA14: -91571 | BB14: -77962 | BC14: -89967 | BD14: -127816 | BE14: -196637 | BF14: -262258 | BG14: =SUM(AM14:AP14) -> -387602 | BH14: =SUM(AQ14:AT14) -> -192594
B15: Resultado Antes dos Tributos sobre o Lucro | C15: -6959 | D15: 1833 | E15: -1560 | F15: 799 | G15: 27432 | H15: 30166 | I15: 18545 | J15: 4849 | K15: 8406 | L15: 144606 | M15: 3020 | N15: 40281 | O15: -23173 | P15: 31791 | Q15: -5472 | R15: -3187 | S15: 32382 | T15: -11749 | U15: 24740 | V15: 40192 | W15: =SUM(W11:W12) -> 53777 | X15: =SUM(X11:X12) -> 42021 | Y15: =SUM(Y11:Y12) -> 70741 | Z15: =SUM(Z11:Z12) -> 62970 | AA15: =SUM(AA11:AA12) -> 56771 | AB15: =SUM(AB11:AB12) -> 79762 | AC15: =SUM(AC11:AC12) -> 64649 | AD15: =SUM(AD11:AD12) -> 3402 | ... AT15: =SUM(AT11:AT12) -> 0 | AV15: 129528 | AW15: 76381 | AX15: -5887 | AY15: 80992 | AZ15: 196313 | BA15: -41 | BB15: =SUM(BB16:BB17) -> 20715 | BC15: =SUM(BC11:BC12) -> 229509 | BD15: =SUM(BD11:BD12) -> 204584 | BE15: =SUM(BE11:BE12) -> -23564 | BF15: =SUM(BF11:BF12) -> -105394 | BG15: =SUM(BG11:BG12) -> -238915 | BH15: =SUM(BH11:BH12) -> -96614
B16: Imposto de Renda e Contribuição Social sobre o Lucro | C16: 739 | D16: 2207 | E16: 639 | F16: 4444 | G16: -7560 | H16: -8290 | I16: -952 | J16: -20 | K16: -1410 | L16: -48191 | M16: -436 | N16: -11965 | O16: 5968 | P16: -7672 | Q16: 2571 | R16: 12337 | S16: -11370 | T16: 63505 | U16: -4113 | V16: -5345 | W16: -13363 | X16: -1835 | Y16: 9947 | Z16: -8036 | AA16: -19126 | AB16: -25936 | AC16: -12171 | AD16: 5754 | AE16: 1826 | AF16: -5203 | AG16: -5937 | AH16: -2225 | AI16: -5999 | AJ16: 1707 | AK16: -1004 | AL16: 12851 | AM16: =SUM(AM17:AM18) -> 5314 | AN16: =SUM(AN17:AN18) -> 4686 | AO16: =SUM(AO17:AO18) -> -14414 | AP16: =SUM(AP17:AP18) -> -48393 | AQ16: =SUM(AQ17:AQ18) -> -2978 | AR16: =SUM(AR17:AR18) -> -4279 | AS16: =SUM(AS17:AS18) -> 0 | AT16: =SUM(AT17:AT18) -> 0 | AV16: -36044 | AW16: -23708 | AX16: 8029 | AY16: -16822 | AZ16: -62002 | BA16: 13204 | BB16: 42677 | BC16: =SUM(BC17:BC18) -> -13287 | BD16: =SUM(BD17:BD18) -> -51479 | BE16: =SUM(BE17:BE18) -> -11539 | BF16: =SUM(BF17:BF18) -> 7555 | BG16: =SUM(BG17:BG18) -> -52807 | BH16: =SUM(BH17:BH18) -> -7257
B17: Corrente | C17: -3631 | D17: -3889 | E17: -1070 | F17: -646 | G17: -2454 | H17: -2435 | I17: -2847 | J17: -2503 | K17: -4055 | L17: -46350 | M17: -2382 | N17: 32369 | O17: -1925 | P17: -3566 | Q17: -3062 | R17: -2733 | S17: -2391 | T17: -2484 | U17: -11235 | V17: -5852 | W17: -10610 | X17: -628 | Y17: -3445 | Z17: -13313 | AA17: -21066 | AB17: -11915 | AC17: -10965 | AD17: -4956 | AE17: -9002 | AF17: 2510 | AG17: -5087 | AH17: -2890 | AI17: -8121 | AJ17: -3014 | AK17: -11851 | AL17: -7468 | AM17: -5187 | AN17: -4315 | AO17: -5338 | AP17: -1804 | AQ17: -3838 | AR17: -4203 | AV17: -40562 | AW17: -32227 | AX17: -9236 | AY17: -10239 | AZ17: -20418 | BA17: -11286 | BB17: -21962 | BC17: -27996 | BD17: -48902 | BE17: -14469 | BF17: -30454 | BG17: =SUM(AM17:AP17) -> -16644 | BH17: =SUM(AQ17:AT17) -> -8041
B18: Diferido | C18: 4370 | D18: 6096 | E18: 1709 | F18: 5090 | G18: -5106 | H18: -5855 | I18: 1895 | J18: 2483 | K18: 2645 | L18: -1841 | M18: 1946 | N18: -44334 | O18: 7893 | P18: -4106 | Q18: 5633 | R18: 15070 | S18: -8979 | T18: 65989 | U18: 7122 | V18: 507 | W18: -2753 | X18: -1207 | Y18: 13392 | Z18: 5277 | AA18: 1940 | AB18: -14021 | AC18: -1206 | AD18: 10710 | AE18: 10828 | AF18: -7713 | AG18: -850 | AH18: 665 | AI18: 2122 | AJ18: 4721 | AK18: 10847 | AL18: 20319 | AM18: 10501 | AN18: 9001 | AO18: -9076 | AP18: -46589 | AQ18: 860 | AR18: -76 | AV18: 4518 | AW18: 8519 | AX18: 17265 | AY18: -6583 | AZ18: -41584 | BA18: 24490 | BB18: 64639 | BC18: 14709 | BD18: -2577 | BE18: 2930 | BF18: 38009 | BG18: =SUM(AM18:AP18) -> -36163 | BH18: =SUM(AQ18:AT18) -> 784
B19: Lucro/(-) Prejuízo Consolidado do Período | C19: -6220 | D19: 4040 | E19: -921 | F19: 5243 | G19: 19872 | H19: 21876 | I19: 17593 | J19: 4829 | K19: 6996 | L19: 96415 | M19: 2584 | N19: 28317 | O19: -17205 | P19: 24119 | Q19: -2901 | R19: 9150 | S19: 21012 | T19: 51756 | U19: 20627 | V19: 34847 | W19: =SUM(W15:W16) -> 40414 | X19: =SUM(X15:X16) -> 40186 | Y19: =SUM(Y15:Y16) -> 80688 | Z19: =SUM(Z15:Z16) -> 54934 | AA19: =SUM(AA15:AA16) -> 37645 | AB19: =SUM(AB15:AB16) -> 53826 | AC19: =SUM(AC15:AC16) -> 52478 | AD19: =SUM(AD15:AD16) -> 9156 | ... AT19: =SUM(AT15:AT16) -> 0 | AV19: 93484 | AW19: 52673 | AX19: 2142 | AY19: 64170 | AZ19: 134312 | BA19: 13163 | BB19: =SUM(BB20:BB21) -> 128242 | BC19: =SUM(BC15:BC16) -> 216222 | BD19: =SUM(BD15:BD16) -> 153105 | BE19: =SUM(BE15:BE16) -> -35103 | BF19: =SUM(BF15:BF16) -> -97839 | BG19: =SUM(BG15:BG16) -> -291722 | BH19: =SUM(BH15:BH16) -> -103871
B20: Atribuído a Sócios da Empresa Controladora | C20: -6224 | D20: 4034 | E20: -924 | F20: 5239 | G20: 19864 | H20: 21868 | I20: 17583 | J20: 4821 | K20: 6989 | L20: 96408 | M20: 2576 | N20: 28309 | O20: -17209 | P20: 24130 | Q20: -2912 | R20: 9119 | S20: 21003 | T20: 51750 | U20: 20614 | V20: 34833 | W20: 40401 | X20: 40178 | Y20: 80668 | Z20: 54926 | AA20: 37643 | AB20: 53814 | AC20: 52498 | AD20: 9143 | AE20: -15081 | AF20: -38301 | AG20: 3967 | AH20: 14285 | AI20: -20706 | AJ20: -11550 | AK20: 2625 | AL20: -72407 | AM20: -32724 | AN20: -44193 | AO20: -41075 | AP20: -173746 | AQ20: -41132 | AR20: -62736 | AV20: 93464 | AW20: 52652 | AX20: 2125 | AY20: 64136 | AZ20: 134282 | BA20: 13128 | BB20: 128200 | BC20: 216173 | BD20: 153098 | BE20: -35130 | BF20: -102038 | BG20: =SUM(AM20:AP20) -> -291738 | BH20: =SUM(AQ20:AT20) -> -103868
B21: Atribuído a Sócios Não Controladores | C21: 4 | D21: 6 | E21: 3 | F21: 4 | G21: 8 | H21: 8 | I21: 10 | J21: 8 | K21: 7 | L21: 7 | M21: 8 | N21: 8 | O21: 4 | P21: -11 | Q21: 11 | R21: 31 | S21: 9 | T21: 6 | U21: 13 | V21: 14 | W21: 13 | X21: 8 | Y21: 20 | Z21: 8 | AA21: 2 | AB21: 12 | AC21: -20 | AD21: 13 | AE21: 20 | AF21: 4 | AG21: 1 | AH21: 2 | AI21: 6 | AJ21: 5 | AK21: 7 | AL21: 3 | AM21: 3 | AN21: 4 | AO21: 6 | AP21: 3 | AQ21: -2 | AR21: -1 | AV21: 20 | AW21: 21 | AX21: 17 | AY21: 34 | AZ21: 30 | BA21: 35 | BB21: 42 | BC21: 49 | BD21: 7 | BE21: 27 | BF21: 21 | BG21: =SUM(AM21:AP21) -> 16 | BH21: =SUM(AQ21:AT21) -> -3
B22: Lucro por Ação - (Reais / Ação) | C22: -0.03927 | D22: 0.02545 | E22: -0.00583 | F22: 0.01382 | G22: 0.12533 | H22: 0.13798 | I22: 0.66878 | J22: 0.030422354 | K22: 0.04414 | L22: 0.65239 | M22: 0.01625 | N22: 0.17864062 | O22: -0.10858167 | P22: 0.15226 | Q22: 0.02547 | R22: 0.057537116 | S22: 0.13258 | T22: 0.32652 | U22: 0.13272671 | V22: -0.59182671 | W22: 0.26144607 | X22: 0.27239206 | Y22: 0.57231 | Z22: 0.37212359 | AA22: 0.26699625 | AB22: 0.38169477 | AC22: 0.37236057 | AD22: 0.064849951 | AE22: -0.10696731 | AF22: -0.27166334 | AG22: 0.028137346 | AH22: 0.1013214 | AI22: -0.1468646 | AJ22: -0.081922513 | AK22: 0.018569103 | AL22: -0.51350166 | AM22: -0.23210669 | AN22: -0.31345469 | AO22: -0.29133915 | AP22: -1.2323558 | AQ22: -0.29174345 | AR22: -0.44497756 | AV22: 0.59 | AW22: 0.33 | AX22: -0.00583 | AY22: -0.4 | AZ22: 0.84726 | BA22: 0.08283 | BB22: 0.82962 | BC22: 1.46436 | BD22: 1.0859015 | BE22: -0.24917191 | BF22: -0.21022523 | BG22: =AP22 -> -1.2323558 | BH22: =AQ22 -> -0.29174345
B23: Lucro Básico por Ação | C23: 0 | D23: 0 | E23: 0 | F23: 0 | G23: 0 | H23: 0 | I23: 0 | J23: 0 | K23: 0 | L23: 0 | M23: 0 | N23: 0 | O23: 0 | P23: 0 | Q23: 0 | S23: 0 | T23: 0 | U23: 0 | V23: 0 | W23: =W$22 -> 0.26144607 | X23: =X$22 -> 0.27239206 | Y23: =Y$22 -> 0.57231 | Z23: =Z$22 -> 0.37212359 | AA23: =AA$22 -> 0.26699625 | AB23: =AB$22 -> 0.38169477 | AC23: =AC$22 -> 0.37236057 | AD23: =AD$22 -> 0.064849951 | ... AI23: =AI$22 -> -0.1468646 | AJ23: -0.081922513 | AK23: 0.018569103 | AL23: -0.51350166 | AM23: -0.23210669 | AN23: =AN22 -> -0.31345469 | AO23: =AO22 -> -0.29133915 | AP23: =AP22 -> -1.2323558 | AQ23: =AQ22 -> -0.29174345 | AR23: =AR22 -> -0.44497756 | AS23: =AS22 -> 0 | AT23: =AT22 -> 0 | AV23: =AV$22 -> 0.59 | AW23: =AW$22 -> 0.33 | AX23: =AX$22 -> -0.00583 | AY23: =AY$22 -> -0.4 | AZ23: =AZ$22 -> 0.84726 | BA23: =BA$22 -> 0.08283 | BB23: =BB$22 -> 0.82962 | BC23: =BC$22 -> 1.46436 | ... BE23: =BE$22 -> -0.24917191 | BF23: -0.72374107 | BG23: =AP23 -> -1.2323558 | BH23: =AQ23 -> -0.29174345
B24: ON | C24: 0 | D24: 0 | E24: 0 | F24: 0 | G24: 0 | H24: 0 | I24: 0 | J24: 0 | K24: 0 | L24: 0 | M24: 0 | N24: 0 | O24: 0 | P24: 0 | Q24: 0 | S24: 0 | T24: 0 | U24: 0 | V24: 0.82544 | W24: =W$22 -> 0.26144607 | X24: =X$22 -> 0.27239206 | Y24: =Y$22 -> 0.57231 | Z24: =Z$22 -> 0.37212359 | AA24: =AA$22 -> 0.26699625 | AB24: =AB$22 -> 0.38169477 | AC24: =AC$22 -> 0.37236057 | AD24: =AD$22 -> 0.064849951 | ... AI24: =AI$22 -> -0.1468646 | AJ24: -0.081922513 | AK24: 0.018569103 | AL24: -0.51350166 | AM24: -0.23210669 | AN24: =AN23 -> -0.31345469 | AO24: =AO23 -> -0.29133915 | AP24: =AP23 -> -1.2323558 | AQ24: =AQ23 -> -0.29174345 | AR24: =AR23 -> -0.44497756 | AS24: =AS23 -> 0 | AT24: =AT23 -> 0 | AV24: =AV$22 -> 0.59 | AW24: =AW$22 -> 0.33 | AX24: =AX$22 -> -0.00583 | AY24: =AY$22 -> -0.4 | AZ24: =AZ$22 -> 0.84726 | BA24: =BA$22 -> 0.08283 | BB24: =BB$22 -> 0.82962 | BC24: =BC$22 -> 1.46436 | ... BE24: =BE$22 -> -0.24917191 | BF24: -0.72374107 | BG24: =AP24 -> -1.2323558 | BH24: =AQ24 -> -0.29174345
B25: Lucro Diluído por Ação | C25: -0.03927 | D25: 0.02545 | E25: -0.00583 | F25: 0.01382 | G25: 0.12533 | H25: 0.13798 | I25: 0.66878 | J25: 0.030422354 | K25: 0.04414 | L25: 0.65239 | M25: 0.01625 | N25: 0.17864062 | O25: -0.10858167 | P25: 0.15226 | Q25: -0.01837 | R25: 0.057537116 | S25: 0.13258 | T25: 0.32652 | U25: 0.13272671 | V25: -0.59182671 | W25: =W$22 -> 0.26144607 | X25: =X$22 -> 0.27239206 | Y25: =Y$22 -> 0.57231 | Z25: =Z$22 -> 0.37212359 | AA25: =AA$22 -> 0.26699625 | AB25: =AB$22 -> 0.38169477 | AC25: =AC$22 -> 0.37236057 | AD25: =AD$22 -> 0.064849951 | ... AI25: =AI$22 -> -0.1468646 | AJ25: -0.081922513 | AK25: 0.018569103 | AL25: -0.51350166 | AM25: -0.23210669 | AN25: =AN24 -> -0.31345469 | AO25: =AO24 -> -0.29133915 | AP25: =AP24 -> -1.2323558 | AQ25: =AQ24 -> -0.29174345 | AR25: =AR24 -> -0.44497756 | AS25: =AS24 -> 0 | AT25: =AT24 -> 0 | AV25: =AV$22 -> 0.59 | AW25: =AW$22 -> 0.33 | AX25: =AX$22 -> -0.00583 | AY25: =AY$22 -> -0.4 | AZ25: =AZ$22 -> 0.84726 | BA25: =BA$22 -> 0.08283 | BB25: =BB$22 -> 0.82962 | BC25: =BC$22 -> 1.46436 | ... BE25: =BE$22 -> -0.24917191 | BF25: -0.72374107 | BG25: =AP25 -> -1.2323558 | BH25: =AQ25 -> -0.29174345
B26: ON | C26: -0.03927 | D26: 0.02545 | E26: -0.00583 | F26: 0.01382 | G26: 0.12533 | H26: 0.13798 | I26: 0.66878 | J26: 0.030422354 | K26: 0.04414 | L26: 0.65239 | M26: 0.01625 | N26: 0.17864062 | O26: -0.10858167 | P26: 0.15226 | Q26: -0.01837 | R26: 0.057537116 | S26: 0.13258 | T26: 0.32652 | U26: 0.13272671 | V26: 0.23361329 | W26: =W$22 -> 0.26144607 | X26: =X$22 -> 0.27239206 | Y26: =Y$22 -> 0.57231 | Z26: =Z$22 -> 0.37212359 | AA26: =AA$22 -> 0.26699625 | AB26: =AB$22 -> 0.38169477 | AC26: =AC$22 -> 0.37236057 | AD26: =AD$22 -> 0.064849951 | ... AI26: =AI$22 -> -0.1468646 | AJ26: -0.081922513 | AK26: 0.018569103 | AL26: -0.51350166 | AM26: -0.23210669 | AN26: =AN25 -> -0.31345469 | AO26: =AO25 -> -0.29133915 | AP26: =AP25 -> -1.2323558 | AQ26: =AQ25 -> -0.29174345 | AR26: =AR25 -> -0.44497756 | AS26: =AS25 -> 0 | AT26: =AT25 -> 0 | AV26: =AV$22 -> 0.59 | AW26: =AW$22 -> 0.33 | AX26: =AX$22 -> -0.00583 | AY26: =AY$22 -> -0.4 | AZ26: =AZ$22 -> 0.84726 | BA26: =BA$22 -> 0.08283 | BB26: =BB$22 -> 0.82962 | BC26: =BC$22 -> 1.46436 | ... BE26: =BE$22 -> -0.24917191 | BF26: -0.72374107 | BG26: =AP26 -> -1.2323558 | BH26: =AQ26 -> -0.29174345
B27: EBITDA | W27: =W11+DFC!D7 -> 82012 | X27: =X11+DFC!E7 -> 83342 | Y27: =Y11+DFC!F7 -> 105134 | Z27: =Z11+DFC!G7 -> 90469 | AA27: =AA11+DFC!H7 -> 118668 | AB27: =AB11+DFC!I7 -> 110794 | AC27: =AC11+DFC!J7 -> 109071 | AD27: =AD11+DFC!K7 -> 67681 | ... AI27: =AI11+DFC!P7 -> 81419 | AJ27: 91530.93 | AK27: 103139.27 | AL27: 37413.867 | AM27: 75691.639 | AN27: 95193 | AO27: 97524.335 | AP27: 52794.885 | AQ27: 94629.293 | AR27: 92994.432 | BC27: 360908.6 | BD27: 406207.81 | BE27: 273704.06 | BF27: 313496.52 | BG27: 268408.99 | BH27: =AQ27 -> 94629.293
B28: Margem EBITDA | W28: =W27/W4 -> 0.19695816 | X28: =X27/X4 -> 0.1795154 | Y28: =Y27/Y4 -> 0.20242212 | Z28: =Z27/Z4 -> 0.17666518 | AA28: =AA27/AA4 -> 0.22605366 | AB28: =AB27/AB4 -> 0.19186504 | AC28: =AC27/AC4 -> 0.18241616 | AD28: =AD27/AD4 -> 0.13635906 | ... AT28: =AT27/AT4 -> #DIV/0! | BC28: =BC27/BC4 -> 0.18874719 | BD28: =BD27/BD4 -> 0.18491889 | BE28: =BE27/BE4 -> 0.12493144 | BF28: =BF27/BF4 -> 0.13020008 | BG28: =BG27/BG4 -> 0.10299069 | BH28: =BH27/BH4 -> 0.075796695

Sheet DFC
B2: Código | C2: Descrição da Conta | D2: 1T21 | E2: 2T21 | F2: 3T21 | G2: 4T21 | H2: 1T22 | I2: 2T22 | J2: 3T22 | K2: 4T22 | L2: 1T23 | M2: 2T23 | N2: 3T23 | O2: 4T23 | P2: 1T24 | Q2: 2T24 | R2: 3T24 | S2: 4T24 | T2: 1T25 | U2: 2T25 | V2: 3T25 | W2: 4T25 | X2: 1T26 | Y2: 2T26 | Z2: 3T26 | AA2: 4T26 | AC2: 2014 | AD2: 2015 | AE2: 2016 | AF2: 2017 | AG2: 2018 | AH2: 2019 | AI2: 2020 | AJ2: 2021 | AK2: 2022 | AL2: 2023 | AM2: 2024 | AN2: 2025 | AO2: 2026
B4: 6.01 | C4: Caixa Líquido Atividades Operacionais | D4: =D5+D23+D41 -> 41675 | E4: =E5+E23+E41 -> 73220 | F4: =F5+F23+F41 -> 119300 | G4: =G5+G23+G41 -> 53253 | H4: =H5+H23+H41 -> 305070 | I4: =I5+I23+I41 -> 185668 | J4: =J5+J23+J41 -> 172878 | K4: =K5+K23+K41 -> 135776.83 | ... AA4: =AA5+AA23+AA41 -> 0 | AC4: 70580 | AD4: -45134 | AE4: 138942 | AF4: 102736 | AG4: 5392 | AH4: 170827 | AI4: =AI5+AI23+AI41 -> 156166 | AJ4: =AJ5+AJ23+AJ41 -> 287449 | AK4: =AK5+AK23+AK41 -> 220150.83 | AL4: =AL5+AL23+AL41 -> 183534.43 | AM4: =AM5+AM23+AM41 -> 94813 | AN4: =AN5+AN23+AN41 -> 202544 | AO4: =SUM(X4:AA4) -> -46626
B5: 6.01.01 | C5: Caixa Gerado nas Operações | D5: =SUM(D6:D21) -> 93146 | E5: =SUM(E6:E21) -> 58143 | F5: =SUM(F6:F21) -> 125295 | G5: =SUM(G6:G21) -> 115965 | H5: =SUM(H6:J22) -> 320965 | I5: =SUM(I6:K22) -> 243726 | J5: =SUM(J6:L22) -> 203816 | K5: =SUM(K6:M22) -> 155148 | L5: =SUM(L6:N22) -> 202668 | M5: =SUM(M6:O22) -> 202322.43 | N5: =SUM(N6:P22) -> 206927.76 | O5: =SUM(O6:Q22) -> 211571.43 | ... W5: =SUM(W6:Y22) -> 43977 | X5: =SUM(X6:X22) -> -13394 | Y5: =SUM(Y6:AA22) -> 77482 | Z5: =SUM(Z6:Z21) -> 0 | AA5: =SUM(AA6:AA21) -> 0 | AC5: 196889 | AD5: 179300 | AE5: 105164 | AF5: 145122 | AG5: 128275 | AH5: 337065 | AI5: =SUM(AI6:AI21) -> 58550 | AJ5: =SUM(AJ6:AJ21) -> 392550 | AK5: =SUM(AK6:AK21) -> 344413 | AL5: =SUM(AL6:AL21) -> 259161.43 | AM5: =SUM(AM6:AM21) -> 330316 | AN5: =SUM(AN6:AN21) -> 130755 | AO5: =SUM(X5:AA5) -> 64088
B6: 6.01.01.01 | C6: Resultado do Período Antes dos Tributos | D6: 53777 | E6: 42021 | F6: 70741 | G6: 62969 | H6: 56771 | I6: 79762 | J6: 64649 | K6: 3402 | L6: -16887 | M6: -33094 | N6: 9905 | O6: 16512 | P6: -14701 | Q6: -13253 | R6: 3629 | S6: -85247 | T6: -38035 | U6: -48876 | V6: -26656 | W6: -125348 | X6: -38156 | Y6: -58457 | AC6: 129528 | AD6: 76381 | AE6: -5887 | AF6: 80992 | AG6: 196313 | AH6: -41 | AI6: 85565 | AJ6: 229509 | AK6: 204584 | AL6: -23564 | AM6: -109572 | AN6: -238915 | AO6: =SUM(X6:AA6) -> -96613
B7: 6.01.01.02 | C7: Depreciação e Amortização | D7: 16744 | E7: 16812 | F7: 19740 | G7: 18920 | H7: 20553 | I7: 21321 | J7: 23776 | K7: 26319 | L7: 30356 | M7: 34446 | N7: 36688 | O7: 36630 | P7: 43727 | Q7: 43652 | R7: 47128 | S7: 48946 | T7: 50224 | U7: 51428 | V7: 49066 | W7: 55999 | X7: 53121 | Y7: 54615 | AC7: 25255 | AD7: 32363 | AE7: 39504 | AF7: 40011 | AG7: 43602 | AH7: 54785 | AI7: 62021 | AJ7: 72216 | AK7: 91969 | AL7: 138120 | AM7: 183453 | AN7: 206717 | AO7: =SUM(X7:AA7) -> 107736
B8: 6.01.01.04 | C8: Variação Cambial não Realizada | D8: 7253 | E8: 12152 | F8: -18963 | G8: 674 | H8: -2550 | I8: 1146 | J8: 265 | K8: -1841 | L8: -3529 | M8: -8443 | N8: 6653 | O8: -7567 | P8: 6215 | Q8: 24977 | R8: -4792 | S8: 27314 | T8: -16955 | U8: -14186 | V8: -23577 | W8: 16563 | X8: -23418 | Y8: -4483 | AC8: 3845 | AD8: 35233 | AE8: -9120 | AF8: 7670 | AG8: -9986 | AH8: -11126 | AI8: 8273 | AJ8: 1116 | AK8: -2980 | AL8: -12886 | AM8: 53714 | AN8: -38155 | AO8: =SUM(X8:AA8) -> -27901
B9: 6.01.01.05 | C9: Provisão de Avaliação de Estoque a Valor de Mercado | D9: -1202 | E9: 137 | F9: 376 | G9: 3040 | H9: -1693 | I9: 2495 | J9: 50 | K9: 7990 | L9: 834 | M9: 2983 | N9: -7927 | O9: 3274 | P9: 69 | Q9: -1538 | R9: 3172 | S9: 15987 | T9: 6901 | U9: -2586 | V9: -6648 | W9: -667 | X9: -4005 | Y9: -1118 | AC9: 0 | AD9: -506 | AE9: 3327 | AF9: -2453 | AG9: 2770 | AH9: 5275 | AI9: -5597 | AJ9: 2351 | AK9: 8842 | AL9: -836 | AM9: 17690 | AN9: -3000 | AO9: =SUM(X9:AA9) -> -5123
B10: 6.01.01.06 | C10: Provisão para créditos de liquidação duvidosa | D10: -427 | E10: -1052 | F10: 59 | G10: 982 | H10: -306 | I10: -1815 | J10: 1066 | K10: -562 | L10: 1408 | M10: -174 | N10: -351 | O10: 245 | P10: -1220 | Q10: 2997 | R10: 3730 | S10: -2426 | T10: -2211 | U10: 97 | V10: -2391 | W10: 3179 | X10: 2141 | Y10: 1337 | AC10: 0 | AD10: 54 | AE10: 1768 | AF10: -464 | AG10: -446 | AH10: 4333 | AI10: 4039 | AJ10: -438 | AK10: -1617 | AL10: 1128 | AM10: 3081 | AN10: -1326 | AO10: =SUM(X10:AA10) -> 3478
B11: 6.01.01.07 | C11: Provisões Cíveis, Trabalhistas, Previdenciárias e Tributárias | D11: 3696 | E11: 1837 | F11: 6136 | G11: 18940 | H11: 2984 | I11: 4871 | J11: 3378 | K11: 701 | L11: 909 | M11: 5979 | N11: -3113 | O11: -1268 | P11: 1640 | Q11: -21186 | R11: -727 | S11: 1830 | T11: -4 | U11: 737 | V11: 80 | W11: 11105 | X11: -10235 | Y11: 5686 | AC11: 7187 | AD11: 14933 | AE11: 12309 | AF11: -18769 | AG11: 61671 | AH11: -19345 | AI11: -56659 | AJ11: 30609 | AK11: 11934 | AL11: 2507 | AM11: -18443 | AN11: 11918 | AO11: =SUM(X11:AA11) -> -4549
B12: 6.01.01.08 | C12: Provisão para PPR | D12: 3812 | E12: -4853 | F12: 1041 | G12: 13481 | H12: 5014 | I12: -18907 | J12: 4068 | K12: -3934 | L12: 2579 | M12: -3104 | N12: 13 | O12: 855 | P12: 0 | Q12: 0 | R12: 0 | S12: 0 | T12: 0 | U12: 0 | V12: 0 | W12: 0 | X12: 0 | Y12: 0 | AC12: 0 | AD12: 0 | AE12: 0 | AF12: 0 | AG12: 0 | AH12: -1426 | AI12: 10769 | AJ12: 13481 | AK12: -13759 | AL12: 343 | AM12: 0 | AN12: 0 | AO12: =SUM(X12:AA12) -> 0
B13: 6.01.01.11 | C13: Atualização de Ativos Judiciais e depósitos em garantia | D13: 0 | E13: 0 | F13: 0 | G13: -11114 | H13: -2192 | I13: -2744 | J13: -1149 | K13: -2216 | L13: -1377 | M13: -1436 | N13: -932 | O13: -1611 | P13: -971.669 | Q13: -1112.331 | R13: 2084 | S13: -3319 | T13: -1020 | U13: -931 | V13: -498 | W13: -26092 | X13: 10279 | Y13: 0 | AC13: -1490 | AD13: -7332 | AE13: -4017 | AF13: -19234 | AG13: -209529 | AH13: 279641 | AI13: -98041 | AJ13: -11114 | AK13: -8301 | AL13: -5356 | AM13: -3319 | AN13: -28541 | AO13: =SUM(X13:AA13) -> 10279
B14: 6.01.01.14 | C14: Juros provisionados de Empréstimos e Debêntures | D14: 8637 | E14: -9584 | F14: 35266 | G14: 15113 | H14: 18529 | I14: 21259 | J14: 22792 | K14: 21296 | L14: 30648 | M14: 43222 | N14: 37654 | O14: -7434 | P14: 33579 | Q14: 34168 | R14: 36212 | S14: 32725 | T14: 35704 | U14: 47194 | V14: 47481 | W14: 47748 | X14: 44034 | Y14: 44447 | AC14: 27169 | AD14: 35851 | AE14: 61653 | AF14: 51588 | AG14: 46502 | AH14: 39836 | AI14: 41753 | AJ14: 49432 | AK14: 83876 | AL14: 104090 | AM14: 136684 | AN14: 178127 | AO14: =SUM(X14:AA14) -> 88481
B15: 6.01.01.15 | C15: Ativo atuarial | D15: 0 | E15: 0 | F15: 0 | G15: -1889 | H15: 0 | I15: 0 | J15: 0 | K15: -1279 | L15: 0 | M15: 0 | N15: 0 | O15: -5744.5669 | P15: 0 | Q15: 0 | R15: 0 | S15: -4215 | T15: 0 | U15: 0 | V15: 0 | W15: 0 | X15: 0 | Y15: 0 | AC15: -2184 | AD15: -1811 | AE15: 0 | AF15: 0 | AG15: -2445 | AH15: 5778 | AI15: 237 | AJ15: -1889 | AK15: -1279 | AL15: -5744.5669 | AM15: -4215 | AN15: 0 | AO15: =SUM(X15:AA15) -> 0
B16: 6.01.01.16 | C16: Juros e AVP de Arrendamento | D16: 711 | E16: 905 | F16: 2114 | G16: -601 | H16: 910 | I16: 809 | J16: 439 | K16: 728 | L16: 2200 | M16: 7174 | N16: 7277 | O16: 5247 | P16: 10489 | Q16: 8936 | R16: 5248 | S16: 11773 | T16: 8455 | U16: 7917 | V16: 14573 | W16: 7228 | X16: 13391 | Y16: 17071 | AC16: 0 | AD16: 0 | AE16: 0 | AF16: 0 | AG16: 0 | AH16: -1233 | AI16: 6849 | AJ16: 3129 | AK16: 2886 | AL16: 21898 | AM16: 36446 | AN16: 38173 | AO16: =SUM(X16:AA16) -> 30462
B17: 6.01.01.17 | C17: Rescisão de Arrendamento | D17: 0 | E17: 0 | F17: -191 | G17: 1138 | H17: 1953 | I17: -1627 | J17: 2019 | K17: -785 | L17: -484 | M17: 2101 | N17: 274 | O17: 413 | P17: 0 | Q17: 0 | R17: 0 | S17: 0 | T17: -110 | U17: 345 | V17: -151 | W17: -6611 | X17: 0 | Y17: -32 | AC17: 0 | AD17: 0 | AE17: 0 | AF17: 0 | AG17: 0 | AH17: 0 | AI17: -643 | AJ17: 947 | AK17: 1560 | AL17: 2304 | AM17: 0 | AN17: -6527 | AO17: =SUM(X17:AA17) -> -32
... B19: 6.01.01.19 | C19: Ajuste a Valor Presente Prodec | D19: 49 | E19: -136 | F19: 87 | G19: -187 | H19: 271 | I19: 296 | J19: 834 | K19: 456 | L19: 119 | M19: -341 | N19: -169 | O19: 9 | P19: -173 | Q19: 173 | R19: 0 | S19: 0 | T19: 0 | U19: 0 | V19: 0 | W19: 0 | X19: 0 | Y19: 0 | AC19: 0 | AD19: 0 | AE19: 0 | AF19: 0 | AG19: 1065 | AH19: 2588 | AI19: 478 | AJ19: -187 | AK19: 1857 | AL19: -382 | AM19: 0 | AN19: 0 | AO19: =SUM(X19:AA19) -> 0
